BEGIN:VCALENDAR
VERSION:2.0
PRODID:-//International Furnishings and Design Association - ECPv5.1.0//NONSGML v1.0//EN
CALSCALE:GREGORIAN
METHOD:PUBLISH
X-WR-CALNAME:International Furnishings and Design Association
X-ORIGINAL-URL:https://ifda.com
X-WR-CALDESC:Events for International Furnishings and Design Association
BEGIN:VTIMEZONE
TZID:America/New_York
BEGIN:DAYLIGHT
TZOFFSETFROM:-0500
TZOFFSETTO:-0400
TZNAME:EDT
DTSTART:20220313T070000
END:DAYLIGHT
BEGIN:STANDARD
TZOFFSETFROM:-0400
TZOFFSETTO:-0500
TZNAME:EST
DTSTART:20221106T060000
END:STANDARD
END:VTIMEZONE
BEGIN:VEVENT
DTSTART;TZID=America/New_York:20221116T120000
DTEND;TZID=America/New_York:20221116T130000
DTSTAMP:20260422T231740
CREATED:20221115T234830Z
LAST-MODIFIED:20221115T235033Z
UID:13407-1668600000-1668603600@ifda.com
SUMMARY:IFDA NY- The Veekar Collective by Carlos Gutierrez Nov 16th at Noon EST
DESCRIPTION: \n\nCLICK HERE for the Link to Join\nWednesday Nov 16\, 2022\n12 Noon EST\nOur Speaker:\n\nCarlos Gutierrez :\n\nto unearth and offer the best in contemporary design to the trade community. For a discerning list of A&D clients\, Veekar provides exceptional luxury products to add to their incredible residential  and hospitality projects. The Veekar goal is to support creative designers and unique brands to introduce them to the appropriate firms and Interior Designers in an effort to create beautiful collaborative interiors. To date Veekar brand introductions have garnered many successful relationships and has enabled our clients to grow their business and focus on their creative specialties\, while Veekar focuses on supporting their brand growth through collection introductions\, brand recognition\, and strong sales connections. With a background in Interior Design\, Direct Sales\, Independent Brand Representation\, Design Business\, and Showroom Management\, Carlos Gutierrez took all of his hands-on experience to build the The VeeKar Collective to offer the best in contemporary furnishings for the trade. Having begun with a NYC focus Veekar has expanded its presence across the entire United States and offers market introductions in all major markets across the US.\nWith twenty years experience catering to the New York Architectural & Design community Carlos Gutierrez launched The Veekar Collective. \nwww.TheVeekarCollective.com @TheVeekarCollective\n\n\nIFDA Social Media Handles:\n@TheVeekarCollective\n@IFDANY\n@IFDA.Official\n@SomebodyGetMeSanti\n\n\n
URL:https://ifda.com/event/the-veekar-collective-by-carlos-gutierrez-nov-16th-at-noon-est/
LOCATION:ON LINE via ZOOM
END:VEVENT
END:VCALENDAR