BEGIN:VCALENDAR
VERSION:2.0
PRODID:-//International Furnishings and Design Association - ECPv5.1.0//NONSGML v1.0//EN
CALSCALE:GREGORIAN
METHOD:PUBLISH
X-WR-CALNAME:International Furnishings and Design Association
X-ORIGINAL-URL:https://ifda.com
X-WR-CALDESC:Events for International Furnishings and Design Association
BEGIN:VTIMEZONE
TZID:America/Halifax
BEGIN:DAYLIGHT
TZOFFSETFROM:-0400
TZOFFSETTO:-0300
TZNAME:ADT
DTSTART:20210314T060000
END:DAYLIGHT
BEGIN:STANDARD
TZOFFSETFROM:-0300
TZOFFSETTO:-0400
TZNAME:AST
DTSTART:20211107T050000
END:STANDARD
END:VTIMEZONE
BEGIN:VEVENT
DTSTART;TZID=America/Halifax:20210707T110000
DTEND;TZID=America/Halifax:20210707T120000
DTSTAMP:20260419T194846
CREATED:20210630T180850Z
LAST-MODIFIED:20210630T181101Z
UID:11724-1625655600-1625659200@ifda.com
SUMMARY:UNLEASHING + MAXIMIZING YOUR CREATIVITY WITH AYSE BIRSEL
DESCRIPTION: \n\n\n\n\n\n\n\n\n\n\n\n\nIsolation and lack of experiences due to the pandemic has taken a toll on our wellbeing and dulled our senses. In this talk\, Ayse Birsel\, co-founder of Birsel + Seck\, an award-winning innovation studio that consults regularly for Amazon\, Herman Miller\, GE\, IKEA\, Toyota\, and more\, will help stimulate and energize your creative process. \nREGISTER NOW! \n\n\n\n\n\n
URL:https://ifda.com/event/unleashing-maximizing-your-creativity-with-ayse-birsel/
END:VEVENT
END:VCALENDAR