BEGIN:VCALENDAR
VERSION:2.0
PRODID:-//International Furnishings and Design Association - ECPv5.1.0//NONSGML v1.0//EN
CALSCALE:GREGORIAN
METHOD:PUBLISH
X-WR-CALNAME:International Furnishings and Design Association
X-ORIGINAL-URL:https://ifda.com
X-WR-CALDESC:Events for International Furnishings and Design Association
BEGIN:VTIMEZONE
TZID:America/New_York
BEGIN:DAYLIGHT
TZOFFSETFROM:-0500
TZOFFSETTO:-0400
TZNAME:EDT
DTSTART:20210314T070000
END:DAYLIGHT
BEGIN:STANDARD
TZOFFSETFROM:-0400
TZOFFSETTO:-0500
TZNAME:EST
DTSTART:20211107T060000
END:STANDARD
END:VTIMEZONE
BEGIN:VEVENT
DTSTART;TZID=America/New_York:20210422T100000
DTEND;TZID=America/New_York:20210422T113000
DTSTAMP:20260423T110156
CREATED:20210409T135758Z
LAST-MODIFIED:20210409T140557Z
UID:11424-1619085600-1619091000@ifda.com
SUMMARY:IFDA-IL EVENT SPONSOR: What's in the Closet?  An in-Person event and raffle
DESCRIPTION: \nIFDA-IL EVENT SPONSOR \nIFDA Illinois is kicking off a return to live events with this morning learning session planned with Inspired Closets. It will be all about solving everyday organizational problems\, big and small. Plan to join us for this informative presentation and a chance to win the raffle. \nWHAT’S IN THE CLOSET? \nPresented by MIKE CARSON President Inspired Closets \nInspired Closets is a locally owned and operated custom closet and garage organization company. Mike Carson\, President\, is hosting us at his large showroom filled with organizational solutions that apply not only to closets and garages but to any area where disorganization reigns. \nMike will start with a tour of his showroom and then sit down with us to talk about closet design and organizational considerations and tips on how to replace disorganized stressful places with organized ones. Be prepared to be inspired and if you’re lucky\, you’ll win the raffle for $500 toward closet or safe. \nTHURSDAY\, APRIL 22\, 2021 \nPresentation begins at 10:00 a.m.\nat the Oakbrook Showroom. \nRegistration and coffee will be available at 9:30. \nWe will be following the latest CDC COVID 19 guidelines for your safety. MASKS ARE REQUIRED \nFEE\n$10 IFDA Members and Students\n$25 Non-Members \nRegister Now! \n  \n
URL:https://ifda.com/event/whats-in-the-closet-an-in-person-event-and-raffle/
LOCATION:Inspired Closets Showroom – Oakbrook\, 1s550 IL Route 83\, Oakbrook Terrace\, IL\, 60181
END:VEVENT
END:VCALENDAR