BEGIN:VCALENDAR
VERSION:2.0
PRODID:-//International Furnishings and Design Association - ECPv5.1.0//NONSGML v1.0//EN
CALSCALE:GREGORIAN
METHOD:PUBLISH
X-WR-CALNAME:International Furnishings and Design Association
X-ORIGINAL-URL:https://ifda.com
X-WR-CALDESC:Events for International Furnishings and Design Association
BEGIN:VTIMEZONE
TZID:America/Halifax
BEGIN:DAYLIGHT
TZOFFSETFROM:-0400
TZOFFSETTO:-0300
TZNAME:ADT
DTSTART:20210314T060000
END:DAYLIGHT
BEGIN:STANDARD
TZOFFSETFROM:-0300
TZOFFSETTO:-0400
TZNAME:AST
DTSTART:20211107T050000
END:STANDARD
END:VTIMEZONE
BEGIN:VEVENT
DTSTART;TZID=America/Halifax:20211017T123000
DTEND;TZID=America/Halifax:20211017T140000
DTSTAMP:20260422T084217
CREATED:20210921T213440Z
LAST-MODIFIED:20210922T144455Z
UID:12084-1634473800-1634479200@ifda.com
SUMMARY:Women Leaders of Design
DESCRIPTION:WithIt Presents: Women Leaders of Design \nThis panel introduces five future icons design\, Jane Dagmi\, Kelli Ellis\, Nancy Fire\, IFDA\, Stacy Garcia\, IFDA\, and Victoria Sanchez. Gary Inman\, IFDA will join as moderator. \nThe story of women in design is one of triumph over adversity. Despite educational and professional obstacles women became leaders of architecture\, landscape architecture\, interior design\, and product design. Iconic figures such as Elsie de Wolfe\, Dorothy Draper\, Sister Parrish\, Eileen Gray\, Andree Putman\, Natalie DuBois\, and countless others defied limitations and inspired generations of women to become designers. \nStacy Garcia\, IFDA \nNancy Fire\, IFDA \nGary Inman\, IFDA \n  \n
URL:https://ifda.com/event/women-leaders-of-design/
LOCATION:IMC Seminar Room (SAMS T-922)\, High Point\, NC
END:VEVENT
END:VCALENDAR