BEGIN:VCALENDAR
VERSION:2.0
PRODID:-//International Furnishings and Design Association - ECPv5.1.0//NONSGML v1.0//EN
CALSCALE:GREGORIAN
METHOD:PUBLISH
X-WR-CALNAME:International Furnishings and Design Association
X-ORIGINAL-URL:https://ifda.com
X-WR-CALDESC:Events for International Furnishings and Design Association
BEGIN:VTIMEZONE
TZID:America/New_York
BEGIN:DAYLIGHT
TZOFFSETFROM:-0500
TZOFFSETTO:-0400
TZNAME:EDT
DTSTART:20230312T070000
END:DAYLIGHT
BEGIN:STANDARD
TZOFFSETFROM:-0400
TZOFFSETTO:-0500
TZNAME:EST
DTSTART:20231105T060000
END:STANDARD
END:VTIMEZONE
BEGIN:VEVENT
DTSTART;TZID=America/New_York:20230725T170000
DTEND;TZID=America/New_York:20230725T210000
DTSTAMP:20260419T233642
CREATED:20230706T132835Z
LAST-MODIFIED:20230706T134107Z
UID:14158-1690304400-1690318800@ifda.com
SUMMARY:IFDA NY- The GREATEST SUMMER SOCIAL ON EARTH
DESCRIPTION:Tuesday\, July 25\, 2023\n6:00 PM – 9:00 PM\nThe response to this event has been off the charts ! \nIf you are interested in attending\, please click on registration link below and join the wait list. \n \n  \nSummer Social ️\nYou are invited to the Greatest Summer Social on Earth\, in partnership with Samsung at their Flagship NYC Experience Store!\nMembership has its benefits! This is an exclusive event solely for the members of ASID Metro NY\, DLFNY\, IDS NYC\, IFDA NY\, & NKBA Manhattan!\nTickets offered on a first-come basis.\nREGISTRATION SITE: \nhttps://nycsummersocial.eventbrite.com\n(You can register one person to attend) \nTickets are limited and available on a first come\, first served basis.\nACCESS CODE: VIPMEMBER\n\n If you wish to cancel\, please send an email to ifdany@ifdanyny.com and we will give your spot to the next person on the waiting list.\n\n@ifdany\n@asidnymetro\n@ids_newyork\n@nkbamanhattan\n@dlf_ny\n@samsungus\n#nycsummersocial \n#asidmetro #dlfny #ifdany #idsnyc #nkbamanhattan\n \n\nThis will be  a Members only Event so Join now\,\n so you can  be a part of the fun!\n https://ifda.com/join-ifda/\n\n
URL:https://ifda.com/event/ifda-ny-the-greatest-summer-social-on-earth/
END:VEVENT
END:VCALENDAR